BEGIN:VCALENDAR
VERSION:2.0
PRODID:icalendar-ruby
CALSCALE:GREGORIAN
BEGIN:VEVENT
DTSTAMP:20260420T083221Z
UID:6e6ad784-05c0-43e6-b498-1cf41b301894
DTSTART:20260406T000000
DTEND:20260406T030000
DESCRIPTION:Ov Sulfur live in concert at Brooklyn Bowl Las Vegas
LOCATION:Brooklyn Bowl Las Vegas\, Las Vegas\, NV\, USA
ORGANIZER:mailto:events@ampwrecked.com
SUMMARY:Ov Sulfur - Ov Sulfur at Brooklyn Bowl Las Vegas
END:VEVENT
END:VCALENDAR
