BEGIN:VCALENDAR
VERSION:2.0
PRODID:icalendar-ruby
CALSCALE:GREGORIAN
BEGIN:VEVENT
DTSTAMP:20260420T083222Z
UID:7bef0701-97d0-4f5e-82e9-b74e6ee4713a
DTSTART:20260409T000000
DTEND:20260409T030000
DESCRIPTION:Microwave live in concert at The Masquerade
LOCATION:The Masquerade\, Chicago\, IL\, USA
ORGANIZER:mailto:events@ampwrecked.com
SUMMARY:Microwave - Microwave at The Masquerade
END:VEVENT
END:VCALENDAR
