BEGIN:VCALENDAR
VERSION:2.0
PRODID:icalendar-ruby
CALSCALE:GREGORIAN
BEGIN:VEVENT
DTSTAMP:20260420T083459Z
UID:c2135183-456c-4f06-82f4-3819abf320d3
DTSTART:20260406T000000
DTEND:20260406T030000
DESCRIPTION:Microwave live in concert at Rockwell @ The Complex
LOCATION:Rockwell @ The Complex\, Salt Lake City\, UT\, USA
ORGANIZER:mailto:events@ampwrecked.com
SUMMARY:Microwave - Microwave at Rockwell @ The Complex
END:VEVENT
END:VCALENDAR
