BEGIN:VCALENDAR
VERSION:2.0
PRODID:icalendar-ruby
CALSCALE:GREGORIAN
BEGIN:VEVENT
DTSTAMP:20260420T083221Z
UID:2df4caea-cf8e-475b-9e41-21c1613181cb
DTSTART:20260410T000000
DTEND:20260410T030000
DESCRIPTION:Full Of Hell live in concert at Slay Glasgow
LOCATION:Slay Glasgow\, Glasgow\, \, United Kingdom
ORGANIZER:mailto:events@ampwrecked.com
SUMMARY:Full Of Hell - Full Of Hell at Slay Glasgow
END:VEVENT
END:VCALENDAR
