BEGIN:VCALENDAR
VERSION:2.0
PRODID:icalendar-ruby
CALSCALE:GREGORIAN
BEGIN:VEVENT
DTSTAMP:20260420T083308Z
UID:73cced1e-b08f-4ec8-ac7d-7dde9a9df277
DTSTART:20260407T000000
DTEND:20260407T030000
DESCRIPTION:Familiar Dark live in concert at Scandinavian Heavy Arts Tour
LOCATION:Scandinavian Heavy Arts Tour\, Los Angeles\, CA\, USA
ORGANIZER:mailto:events@ampwrecked.com
SUMMARY:Familiar Dark - Familiar Dark at Scandinavian Heavy Arts Tour
END:VEVENT
END:VCALENDAR
