BEGIN:VCALENDAR
VERSION:2.0
PRODID:icalendar-ruby
CALSCALE:GREGORIAN
BEGIN:VEVENT
DTSTAMP:20260420T083221Z
UID:8b2b19df-6832-40a4-b867-8ce5319c654e
DTSTART:20260410T000000
DTEND:20260410T030000
DESCRIPTION:BOYS LIKE GIRLS live in concert at The Fillmore Silver Spring
LOCATION:The Fillmore Silver Spring\, Silver Spring\, MD\, USA
ORGANIZER:mailto:events@ampwrecked.com
SUMMARY:BOYS LIKE GIRLS - BOYS LIKE GIRLS at The Fillmore Silver Spring
END:VEVENT
END:VCALENDAR
