BEGIN:VCALENDAR
VERSION:2.0
PRODID:icalendar-ruby
CALSCALE:GREGORIAN
BEGIN:VEVENT
DTSTAMP:20260420T083418Z
UID:4eb8629c-1ada-474d-b38a-170810c6bec5
DTSTART:20260409T000000
DTEND:20260409T030000
DESCRIPTION:BOYS LIKE GIRLS live in concert at The Met
LOCATION:The Met\, Philadelphia\, PA\, USA
ORGANIZER:mailto:events@ampwrecked.com
SUMMARY:BOYS LIKE GIRLS - BOYS LIKE GIRLS at The Met
END:VEVENT
END:VCALENDAR
