BEGIN:VCALENDAR
VERSION:2.0
PRODID:icalendar-ruby
CALSCALE:GREGORIAN
BEGIN:VEVENT
DTSTAMP:20260420T083417Z
UID:33fd69e8-18a5-4ed1-8b41-b52acdd74310
DTSTART:20260407T000000
DTEND:20260407T030000
DESCRIPTION:BOYS LIKE GIRLS live in concert at Buffalo RiverWorks
LOCATION:Buffalo RiverWorks\, Buffalo\, NY\, USA
ORGANIZER:mailto:events@ampwrecked.com
SUMMARY:BOYS LIKE GIRLS - BOYS LIKE GIRLS at Buffalo RiverWorks
END:VEVENT
END:VCALENDAR
