BEGIN:VCALENDAR
VERSION:2.0
PRODID:icalendar-ruby
CALSCALE:GREGORIAN
BEGIN:VEVENT
DTSTAMP:20260420T083222Z
UID:56b34f8d-45da-42cd-8016-fbb455327fd5
DTSTART:20260903T000000
DTEND:20260903T030000
DESCRIPTION:Default Aggression live in concert at OLG Stage at Fallsview Ca
 sino
LOCATION:OLG Stage at Fallsview Casino\, Niagara Falls\, ON\, USA
ORGANIZER:mailto:events@ampwrecked.com
SUMMARY:Default Aggression - Default Aggression at OLG Stage at Fallsview C
 asino
END:VEVENT
END:VCALENDAR
