BEGIN:VCALENDAR
VERSION:2.0
PRODID:icalendar-ruby
CALSCALE:GREGORIAN
BEGIN:VEVENT
DTSTAMP:20260420T083253Z
UID:f837358b-7392-467c-81d9-e5bcf56f459f
DTSTART:20260710T000000
DTEND:20260710T030000
DESCRIPTION:Default Aggression live in concert at Rock The Lake 2026
LOCATION:Rock The Lake 2026\, Kelowna\, BC\, USA
ORGANIZER:mailto:events@ampwrecked.com
SUMMARY:Default Aggression - Default Aggression at Rock The Lake 2026
END:VEVENT
END:VCALENDAR
