BEGIN:VCALENDAR
VERSION:2.0
PRODID:icalendar-ruby
CALSCALE:GREGORIAN
BEGIN:VEVENT
DTSTAMP:20260420T083308Z
UID:7b33a46c-61ba-4f32-800d-9002dce3e39e
DTSTART:20260626T000000
DTEND:20260626T030000
DESCRIPTION:Digger live in concert at Hells Bells Festival 2026
LOCATION:Hells Bells Festival 2026\, Szczecin\, \, Poland
ORGANIZER:mailto:events@ampwrecked.com
SUMMARY:Digger - Digger at Hells Bells Festival 2026
END:VEVENT
END:VCALENDAR
