BEGIN:VCALENDAR
VERSION:2.0
PRODID:icalendar-ruby
CALSCALE:GREGORIAN
BEGIN:VEVENT
DTSTAMP:20260420T095707Z
UID:cc48740c-de52-48ab-96ef-d29066e57cdf
DTSTART:20260410T000000
DTEND:20260410T030000
DESCRIPTION:she's green live in concert at The Stone Pony
LOCATION:The Stone Pony\, Asbury Park\, NJ\, USA
ORGANIZER:mailto:events@ampwrecked.com
SUMMARY:she's green - she's green at The Stone Pony
END:VEVENT
END:VCALENDAR
