BEGIN:VCALENDAR
VERSION:2.0
PRODID:icalendar-ruby
CALSCALE:GREGORIAN
BEGIN:VEVENT
DTSTAMP:20260420T100022Z
UID:9798ae16-1f32-4635-ab3b-142159c1e440
DTSTART:20260409T000000
DTEND:20260409T030000
DESCRIPTION:NOVELISTS live in concert at NOVELISTS "Coda Tour" + TSS + Vian
 ova
LOCATION:NOVELISTS "Coda Tour" + TSS + Vianova\, Wasquehal\, \, France
ORGANIZER:mailto:events@ampwrecked.com
SUMMARY:NOVELISTS - NOVELISTS at NOVELISTS "Coda Tour" + TSS + Vianova
END:VEVENT
END:VCALENDAR
