BEGIN:VCALENDAR
VERSION:2.0
PRODID:icalendar-ruby
CALSCALE:GREGORIAN
BEGIN:VEVENT
DTSTAMP:20260420T100133Z
UID:f938b5ae-1f87-4e86-bb1a-2c3356d7f0fe
DTSTART:20260410T000000
DTEND:20260410T030000
DESCRIPTION:Ocean Grove live in concert at House Of Culture
LOCATION:House Of Culture\, Helsinki\, \, Finland
ORGANIZER:mailto:events@ampwrecked.com
SUMMARY:Ocean Grove - Ocean Grove at House Of Culture
END:VEVENT
END:VCALENDAR
