BEGIN:VCALENDAR
VERSION:2.0
PRODID:icalendar-ruby
CALSCALE:GREGORIAN
BEGIN:VEVENT
DTSTAMP:20260420T095635Z
UID:6e37953c-8a9f-42e3-9577-b3c18af6e95f
DTSTART:20260408T000000
DTEND:20260408T030000
DESCRIPTION:Ocean Grove live in concert at Fållan
LOCATION:Fållan\, Johanneshov\, \, Sweden
ORGANIZER:mailto:events@ampwrecked.com
SUMMARY:Ocean Grove - Ocean Grove at Fållan
END:VEVENT
END:VCALENDAR
