BEGIN:VCALENDAR
VERSION:2.0
PRODID:icalendar-ruby
CALSCALE:GREGORIAN
BEGIN:VEVENT
DTSTAMP:20260420T123205Z
UID:53e6bbd4-b26d-4db3-b9f2-c01a69bdb74b
DTSTART:20260410T000000
DTEND:20260410T030000
DESCRIPTION:Currents live in concert at Channel 24
LOCATION:Channel 24\, Sacramento\, CA\, USA
ORGANIZER:mailto:events@ampwrecked.com
SUMMARY:Currents - Currents at Channel 24
END:VEVENT
END:VCALENDAR
