BEGIN:VCALENDAR
VERSION:2.0
PRODID:icalendar-ruby
CALSCALE:GREGORIAN
BEGIN:VEVENT
DTSTAMP:20260420T083222Z
UID:559fbaea-5bdf-4373-bd42-16ade6649bc4
DTSTART:20260408T000000
DTEND:20260408T030000
DESCRIPTION:Currents live in concert at Roseland Theater
LOCATION:Roseland Theater\, Portland\, OR\, USA
ORGANIZER:mailto:events@ampwrecked.com
SUMMARY:Currents - Currents at Roseland Theater
END:VEVENT
END:VCALENDAR
