BEGIN:VCALENDAR
VERSION:2.0
PRODID:icalendar-ruby
CALSCALE:GREGORIAN
BEGIN:VEVENT
DTSTAMP:20260420T083310Z
UID:d5a04c20-cb00-4b6a-b308-277991925382
DTSTART:20260407T000000
DTEND:20260407T030000
DESCRIPTION:Currents live in concert at The Showbox
LOCATION:The Showbox\, Seattle\, WA\, USA
ORGANIZER:mailto:events@ampwrecked.com
SUMMARY:Currents - Currents at The Showbox
END:VEVENT
END:VCALENDAR
