BEGIN:VCALENDAR
VERSION:2.0
PRODID:icalendar-ruby
CALSCALE:GREGORIAN
BEGIN:VEVENT
DTSTAMP:20260420T083359Z
UID:311f5c29-78e3-48b8-81d3-bbf0c94cacdb
DTSTART:20260507T000000
DTEND:20260507T030000
DESCRIPTION:Nouns live in concert at Tubby’s Kingston
LOCATION:Tubby’s Kingston\, Kingston\, NY\, USA
ORGANIZER:mailto:events@ampwrecked.com
SUMMARY:Nouns - Nouns at Tubby’s Kingston
END:VEVENT
END:VCALENDAR
