BEGIN:VCALENDAR
VERSION:2.0
PRODID:icalendar-ruby
CALSCALE:GREGORIAN
BEGIN:VEVENT
DTSTAMP:20260420T083359Z
UID:7d310763-646b-4448-8ced-508ba2a57757
DTSTART:20260409T000000
DTEND:20260409T030000
DESCRIPTION:The Wonder Years live in concert at Theatre of Living Arts
LOCATION:Theatre of Living Arts\, Philadelphia\, PA\, USA
ORGANIZER:mailto:events@ampwrecked.com
SUMMARY:The Wonder Years - The Wonder Years at Theatre of Living Arts
END:VEVENT
END:VCALENDAR
