BEGIN:VCALENDAR
VERSION:2.0
PRODID:icalendar-ruby
CALSCALE:GREGORIAN
BEGIN:VEVENT
DTSTAMP:20260420T083422Z
UID:352737e4-2a6c-4f90-9a6c-9dc24b3dd81f
DTSTART:20260408T000000
DTEND:20260408T030000
DESCRIPTION:The Wonder Years live in concert at Citizens House of Blues
LOCATION:Citizens House of Blues\, Boston\, MA\, USA
ORGANIZER:mailto:events@ampwrecked.com
SUMMARY:The Wonder Years - The Wonder Years at Citizens House of Blues
END:VEVENT
END:VCALENDAR
