BEGIN:VCALENDAR
VERSION:2.0
PRODID:icalendar-ruby
CALSCALE:GREGORIAN
BEGIN:VEVENT
DTSTAMP:20260420T083308Z
UID:4c87bf97-c056-4b47-8a21-051b5d4140f3
DTSTART:20260407T000000
DTEND:20260407T030000
DESCRIPTION:The Wonder Years live in concert at Empire Live
LOCATION:Empire Live\, Albany\, NY\, USA
ORGANIZER:mailto:events@ampwrecked.com
SUMMARY:The Wonder Years - The Wonder Years at Empire Live
END:VEVENT
END:VCALENDAR
