BEGIN:VCALENDAR
VERSION:2.0
PRODID:icalendar-ruby
CALSCALE:GREGORIAN
BEGIN:VEVENT
DTSTAMP:20260420T083416Z
UID:c60d2dd4-2ba7-48d4-9c9c-d0c0f12e8465
DTSTART:20260410T000000
DTEND:20260410T030000
DESCRIPTION:Malicious Destruction Of Property live in concert at The UC The
 atre
LOCATION:The UC Theatre\, Berkeley\, CA\, USA
ORGANIZER:mailto:events@ampwrecked.com
SUMMARY:Malicious Destruction Of Property - Malicious Destruction Of Proper
 ty at The UC Theatre
END:VEVENT
END:VCALENDAR
