BEGIN:VCALENDAR
VERSION:2.0
PRODID:icalendar-ruby
CALSCALE:GREGORIAN
BEGIN:VEVENT
DTSTAMP:20260420T095529Z
UID:a1e18694-5bef-43de-bb95-62cf19876ef9
DTSTART:20260409T000000
DTEND:20260409T030000
DESCRIPTION:Malicious Destruction Of Property live in concert at The Belasc
 o Theater
LOCATION:The Belasco Theater\, Los Angeles\, CA\, USA
ORGANIZER:mailto:events@ampwrecked.com
SUMMARY:Malicious Destruction Of Property - Malicious Destruction Of Proper
 ty at The Belasco Theater
END:VEVENT
END:VCALENDAR
