BEGIN:VCALENDAR
VERSION:2.0
PRODID:icalendar-ruby
CALSCALE:GREGORIAN
BEGIN:VEVENT
DTSTAMP:20260420T100133Z
UID:0beaa89c-b31d-49c0-83bf-d0daffe3aadb
DTSTART:20260408T000000
DTEND:20260408T030000
DESCRIPTION:Malicious Destruction Of Property live in concert at The Van Bu
 ren
LOCATION:The Van Buren\, Phoenix\, AZ\, USA
ORGANIZER:mailto:events@ampwrecked.com
SUMMARY:Malicious Destruction Of Property - Malicious Destruction Of Proper
 ty at The Van Buren
END:VEVENT
END:VCALENDAR
