BEGIN:VCALENDAR
VERSION:2.0
PRODID:icalendar-ruby
CALSCALE:GREGORIAN
BEGIN:VEVENT
DTSTAMP:20260420T083458Z
UID:5d986f9d-ed64-42f7-9118-6c0e3c57fd73
DTSTART:20260409T000000
DTEND:20260409T030000
DESCRIPTION:Downswing live in concert at Zero 9:36\, Elijah & Downswing
LOCATION:Zero 9:36\, Elijah & Downswing\, Greensboro\, NC\, USA
ORGANIZER:mailto:events@ampwrecked.com
SUMMARY:Downswing - Downswing at Zero 9:36\, Elijah & Downswing
END:VEVENT
END:VCALENDAR
