BEGIN:VCALENDAR
VERSION:2.0
PRODID:icalendar-ruby
CALSCALE:GREGORIAN
BEGIN:VEVENT
DTSTAMP:20260420T083419Z
UID:4c361848-d000-416e-9aca-04d5876be92c
DTSTART:20260408T000000
DTEND:20260408T030000
DESCRIPTION:Downswing live in concert at Zero 9:36\, Elijah & Downswing
LOCATION:Zero 9:36\, Elijah & Downswing\, Atlanta\, GA\, USA
ORGANIZER:mailto:events@ampwrecked.com
SUMMARY:Downswing - Downswing at Zero 9:36\, Elijah & Downswing
END:VEVENT
END:VCALENDAR
