BEGIN:VCALENDAR
VERSION:2.0
PRODID:icalendar-ruby
CALSCALE:GREGORIAN
BEGIN:VEVENT
DTSTAMP:20260420T083421Z
UID:68dae308-8917-4700-a4c8-6bad08b1ac74
DTSTART:20260410T000000
DTEND:20260410T030000
DESCRIPTION:No Pressure live in concert at The Belasco Theater
LOCATION:The Belasco Theater\, Los Angeles\, CA\, USA
ORGANIZER:mailto:events@ampwrecked.com
SUMMARY:No Pressure - No Pressure at The Belasco Theater
END:VEVENT
END:VCALENDAR
