BEGIN:VCALENDAR
VERSION:2.0
PRODID:icalendar-ruby
CALSCALE:GREGORIAN
BEGIN:VEVENT
DTSTAMP:20260420T084909Z
UID:1845dc9b-1c27-4043-86e0-cf6dfc9d9909
DTSTART:20260512T000000
DTEND:20260512T030000
DESCRIPTION:Stand Atlantic live in concert at Yogibo META VALLEY
LOCATION:Yogibo META VALLEY\, Naniwa Ku\, \, Japan
ORGANIZER:mailto:events@ampwrecked.com
SUMMARY:Stand Atlantic - Stand Atlantic at Yogibo META VALLEY
END:VEVENT
END:VCALENDAR
