BEGIN:VCALENDAR
VERSION:2.0
PRODID:icalendar-ruby
CALSCALE:GREGORIAN
BEGIN:VEVENT
DTSTAMP:20260420T083253Z
UID:7d1c2126-652f-4345-a974-4512398f28d3
DTSTART:20260511T000000
DTEND:20260511T030000
DESCRIPTION:Stand Atlantic live in concert at NAGOYA JAMMIN’
LOCATION:NAGOYA JAMMIN’\, Nagoya\, \, Japan
ORGANIZER:mailto:events@ampwrecked.com
SUMMARY:Stand Atlantic - Stand Atlantic at NAGOYA JAMMIN’
END:VEVENT
END:VCALENDAR
