BEGIN:VCALENDAR
VERSION:2.0
PRODID:icalendar-ruby
CALSCALE:GREGORIAN
BEGIN:VEVENT
DTSTAMP:20260420T083308Z
UID:78ef34d6-bd02-4d2d-a03d-733dc27698fb
DTSTART:20260507T000000
DTEND:20260507T030000
DESCRIPTION:Counterparts live in concert at The Aster Business Centre (Litt
 on & Co.\, Inc.\, Mandala Park)
LOCATION:The Aster Business Centre (Litton & Co.\, Inc.\, Mandala Park)\, M
 andaluyong\, \, Philippines
ORGANIZER:mailto:events@ampwrecked.com
SUMMARY:Counterparts - Counterparts at The Aster Business Centre (Litton & 
 Co.\, Inc.\, Mandala Park)
END:VEVENT
END:VCALENDAR
