BEGIN:VCALENDAR
VERSION:2.0
PRODID:icalendar-ruby
CALSCALE:GREGORIAN
BEGIN:VEVENT
DTSTAMP:20260420T101429Z
UID:33a33ea1-000d-46f2-9810-d429b8e001bb
DTSTART:20260410T000000
DTEND:20260410T030000
DESCRIPTION:The Acacia Strain live in concert at The Webster
LOCATION:The Webster\, Hartford\, CT\, USA
ORGANIZER:mailto:events@ampwrecked.com
SUMMARY:The Acacia Strain - The Acacia Strain at The Webster
END:VEVENT
END:VCALENDAR
