BEGIN:VCALENDAR
VERSION:2.0
PRODID:icalendar-ruby
CALSCALE:GREGORIAN
BEGIN:VEVENT
DTSTAMP:20260420T095423Z
UID:406c2817-db5a-46e9-a78e-f9a781759ea0
DTSTART:20260408T000000
DTEND:20260408T030000
DESCRIPTION:Memphis May Fire live in concert at Huxleys Neue Welt
LOCATION:Huxleys Neue Welt\, Berlin\, \, Germany
ORGANIZER:mailto:events@ampwrecked.com
SUMMARY:Memphis May Fire - Memphis May Fire at Huxleys Neue Welt
END:VEVENT
END:VCALENDAR
