BEGIN:VCALENDAR
VERSION:2.0
PRODID:icalendar-ruby
CALSCALE:GREGORIAN
BEGIN:VEVENT
DTSTAMP:20260420T095615Z
UID:e946821a-e97b-412d-874b-e0c9053f688e
DTSTART:20260409T000000
DTEND:20260409T030000
DESCRIPTION:Limit of Destruction live in concert at The Belasco Theater
LOCATION:The Belasco Theater\, Los Angeles\, CA\, USA
ORGANIZER:mailto:events@ampwrecked.com
SUMMARY:Limit of Destruction - Limit of Destruction at The Belasco Theater
END:VEVENT
END:VCALENDAR
