BEGIN:VCALENDAR
VERSION:2.0
PRODID:icalendar-ruby
CALSCALE:GREGORIAN
BEGIN:VEVENT
DTSTAMP:20260420T100133Z
UID:c83fbacf-b312-4c6d-96ff-7df6e84f6830
DTSTART:20260408T000000
DTEND:20260408T030000
DESCRIPTION:Limit of Destruction live in concert at The Van Buren
LOCATION:The Van Buren\, Phoenix\, AZ\, USA
ORGANIZER:mailto:events@ampwrecked.com
SUMMARY:Limit of Destruction - Limit of Destruction at The Van Buren
END:VEVENT
END:VCALENDAR
