BEGIN:VCALENDAR
VERSION:2.0
PRODID:icalendar-ruby
CALSCALE:GREGORIAN
BEGIN:VEVENT
DTSTAMP:20260420T083308Z
UID:4bd631bd-3b22-45c4-b79a-0d903053d7f3
DTSTART:20260830T000000
DTEND:20260830T030000
DESCRIPTION:Virginia's Basement live in concert at Victorious Festival 2026
LOCATION:Victorious Festival 2026\, Portsmouth\, \, United Kingdom
ORGANIZER:mailto:events@ampwrecked.com
SUMMARY:Virginia's Basement - Virginia's Basement at Victorious Festival 20
 26
END:VEVENT
END:VCALENDAR
