BEGIN:VCALENDAR
VERSION:2.0
PRODID:icalendar-ruby
CALSCALE:GREGORIAN
BEGIN:VEVENT
DTSTAMP:20260420T083400Z
UID:508ec7ae-2dc5-483b-9257-ab7c6355d6ac
DTSTART:20260829T000000
DTEND:20260829T030000
DESCRIPTION:Virginia's Basement live in concert at Port Eliot Estate
LOCATION:Port Eliot Estate\, Saltash\, \, United Kingdom
ORGANIZER:mailto:events@ampwrecked.com
SUMMARY:Virginia's Basement - Virginia's Basement at Port Eliot Estate
END:VEVENT
END:VCALENDAR
