BEGIN:VCALENDAR
VERSION:2.0
PRODID:icalendar-ruby
CALSCALE:GREGORIAN
BEGIN:VEVENT
DTSTAMP:20260420T083457Z
UID:4b0c9a75-cca4-487a-a776-7854bd2a4ff2
DTSTART:20260731T000000
DTEND:20260731T030000
DESCRIPTION:Virginia's Basement live in concert at Burgess Park
LOCATION:Burgess Park\, London\, \, United Kingdom
ORGANIZER:mailto:events@ampwrecked.com
SUMMARY:Virginia's Basement - Virginia's Basement at Burgess Park
END:VEVENT
END:VCALENDAR
