BEGIN:VCALENDAR
VERSION:2.0
PRODID:icalendar-ruby
CALSCALE:GREGORIAN
BEGIN:VEVENT
DTSTAMP:20260420T083255Z
UID:3869edae-7909-4ba1-9e51-47749eab9d55
DTSTART:20260410T000000
DTEND:20260410T030000
DESCRIPTION:Dashboard Confessional live in concert at Scotiabank Centre
LOCATION:Scotiabank Centre\, Halifax\, NS\, USA
ORGANIZER:mailto:events@ampwrecked.com
SUMMARY:Dashboard Confessional - Dashboard Confessional at Scotiabank Centr
 e
END:VEVENT
END:VCALENDAR
