BEGIN:VCALENDAR
VERSION:2.0
PRODID:icalendar-ruby
CALSCALE:GREGORIAN
BEGIN:VEVENT
DTSTAMP:20260420T083456Z
UID:bfe38035-2906-4ab1-8465-cf311057ef42
DTSTART:20260408T000000
DTEND:20260408T030000
DESCRIPTION:Dashboard Confessional live in concert at Place Bell
LOCATION:Place Bell\, Laval\, QC\, USA
ORGANIZER:mailto:events@ampwrecked.com
SUMMARY:Dashboard Confessional - Dashboard Confessional at Place Bell
END:VEVENT
END:VCALENDAR
