BEGIN:VCALENDAR
VERSION:2.0
PRODID:icalendar-ruby
CALSCALE:GREGORIAN
BEGIN:VEVENT
DTSTAMP:20260420T083223Z
UID:c39e4bec-f170-4cde-8137-be2f3f01f488
DTSTART:20261106T000000
DTEND:20261106T030000
DESCRIPTION:Dying Fetus live in concert at Dragon Rojo Rock Bar
LOCATION:Dragon Rojo Rock Bar\, Tijuana\, \, Mexico
ORGANIZER:mailto:events@ampwrecked.com
SUMMARY:Dying Fetus - Dying Fetus at Dragon Rojo Rock Bar
END:VEVENT
END:VCALENDAR
