BEGIN:VCALENDAR
VERSION:2.0
PRODID:icalendar-ruby
CALSCALE:GREGORIAN
BEGIN:VEVENT
DTSTAMP:20260420T083421Z
UID:78f50766-5d57-404a-b071-a7b662e6d249
DTSTART:20260522T000000
DTEND:20260522T030000
DESCRIPTION:Driveways live in concert at Rebellion
LOCATION:Rebellion\, Manchester\, \, United Kingdom
ORGANIZER:mailto:events@ampwrecked.com
SUMMARY:Driveways - Driveways at Rebellion
END:VEVENT
END:VCALENDAR
