BEGIN:VCALENDAR
VERSION:2.0
PRODID:icalendar-ruby
CALSCALE:GREGORIAN
BEGIN:VEVENT
DTSTAMP:20260420T083416Z
UID:b235f0e3-d289-4a88-bff5-5cc35b65d79c
DTSTART:20260410T000000
DTEND:20260410T030000
DESCRIPTION:Carcass live in concert at MHP Arena
LOCATION:MHP Arena\, Ludwigsburg\, \, Germany
ORGANIZER:mailto:events@ampwrecked.com
SUMMARY:Carcass - Carcass at MHP Arena
END:VEVENT
END:VCALENDAR
