BEGIN:VCALENDAR
VERSION:2.0
PRODID:icalendar-ruby
CALSCALE:GREGORIAN
BEGIN:VEVENT
DTSTAMP:20260420T103232Z
UID:39b95de9-c709-48a6-8c6d-729a6af2d19d
DTSTART:20260530T000000
DTEND:20260530T030000
DESCRIPTION:Stars Hollow live in concert at the broadway
LOCATION:the broadway\, Brooklyn\, NY\, USA
ORGANIZER:mailto:events@ampwrecked.com
SUMMARY:Stars Hollow - Stars Hollow at the broadway
END:VEVENT
END:VCALENDAR
