BEGIN:VCALENDAR
VERSION:2.0
PRODID:icalendar-ruby
CALSCALE:GREGORIAN
BEGIN:VEVENT
DTSTAMP:20260420T083458Z
UID:97dc9e75-658a-44ba-880b-c2f3dcf12386
DTSTART:20260529T000000
DTEND:20260529T030000
DESCRIPTION:Stars Hollow live in concert at Ortlieb's
LOCATION:Ortlieb's\, Philadelphia\, PA\, USA
ORGANIZER:mailto:events@ampwrecked.com
SUMMARY:Stars Hollow - Stars Hollow at Ortlieb's
END:VEVENT
END:VCALENDAR
