BEGIN:VCALENDAR
VERSION:2.0
PRODID:icalendar-ruby
CALSCALE:GREGORIAN
BEGIN:VEVENT
DTSTAMP:20260420T083359Z
UID:f1c3f1fe-cdd4-4777-b1d1-89790f334802
DTSTART:20260406T000000
DTEND:20260406T030000
DESCRIPTION:Heavy//Hitter live in concert at Ottobar
LOCATION:Ottobar\, Baltimore\, MD\, USA
ORGANIZER:mailto:events@ampwrecked.com
SUMMARY:Heavy//Hitter - Heavy//Hitter at Ottobar
END:VEVENT
END:VCALENDAR
