BEGIN:VCALENDAR
VERSION:2.0
PRODID:icalendar-ruby
CALSCALE:GREGORIAN
BEGIN:VEVENT
DTSTAMP:20260420T083457Z
UID:a2120857-0a7a-4d40-91b8-f4caf598998c
DTSTART:20260803T000000
DTEND:20260803T030000
DESCRIPTION:Evergreen Terrace live in concert at Rock Café
LOCATION:Rock Café\, Praha 1\, \, Czech Republic
ORGANIZER:mailto:events@ampwrecked.com
SUMMARY:Evergreen Terrace - Evergreen Terrace at Rock Café
END:VEVENT
END:VCALENDAR
