BEGIN:VCALENDAR
VERSION:2.0
PRODID:icalendar-ruby
CALSCALE:GREGORIAN
BEGIN:VEVENT
DTSTAMP:20260420T083222Z
UID:eeae444c-dc90-49fd-b6a8-a7952249ac86
DTSTART:20260704T000000
DTEND:20260704T030000
DESCRIPTION:Alkaline Trio live in concert at O2 Forum Kentish Town
LOCATION:O2 Forum Kentish Town\, London\, \, United Kingdom
ORGANIZER:mailto:events@ampwrecked.com
SUMMARY:Alkaline Trio - Alkaline Trio at O2 Forum Kentish Town
END:VEVENT
END:VCALENDAR
