BEGIN:VCALENDAR
VERSION:2.0
PRODID:icalendar-ruby
CALSCALE:GREGORIAN
BEGIN:VEVENT
DTSTAMP:20260420T083223Z
UID:38550d27-5e4e-495c-963c-df981a92636a
DTSTART:20260718T000000
DTEND:20260718T030000
DESCRIPTION:End live in concert at 梅田ＣＬＵＢ ＱＵＡＴＴＲＯ
LOCATION:梅田ＣＬＵＢ ＱＵＡＴＴＲＯ\, 大阪市\, \, Japan
ORGANIZER:mailto:events@ampwrecked.com
SUMMARY:End - End at 梅田ＣＬＵＢ ＱＵＡＴＴＲＯ
END:VEVENT
END:VCALENDAR
