BEGIN:VCALENDAR
VERSION:2.0
PRODID:icalendar-ruby
CALSCALE:GREGORIAN
BEGIN:VEVENT
DTSTAMP:20260420T083254Z
UID:76436513-ccef-453c-97d1-bc6355818933
DTSTART:20260708T000000
DTEND:20260708T030000
DESCRIPTION:Have A Nice Life live in concert at Radio/East
LOCATION:Radio/East\, Austin\, TX\, USA
ORGANIZER:mailto:events@ampwrecked.com
SUMMARY:Have A Nice Life - Have A Nice Life at Radio/East
END:VEVENT
END:VCALENDAR
